BEGIN:VCALENDAR
VERSION:2.0
PRODID:-//Pesäkarhut - ECPv5.9.1//NONSGML v1.0//EN
CALSCALE:GREGORIAN
METHOD:PUBLISH
X-WR-CALNAME:Pesäkarhut
X-ORIGINAL-URL:https://pesakarhut.fi
X-WR-CALDESC:Tapahtumat Pesäkarhut
BEGIN:VTIMEZONE
TZID:Europe/Helsinki
BEGIN:DAYLIGHT
TZOFFSETFROM:+0200
TZOFFSETTO:+0300
TZNAME:EEST
DTSTART:20230326T010000
END:DAYLIGHT
BEGIN:STANDARD
TZOFFSETFROM:+0300
TZOFFSETTO:+0200
TZNAME:EET
DTSTART:20231029T010000
END:STANDARD
END:VTIMEZONE
BEGIN:VEVENT
DTSTART;TZID=Europe/Helsinki:20230606T180000
DTEND;TZID=Europe/Helsinki:20230606T200000
DTSTAMP:20260420T174518
CREATED:20230323T121931Z
LAST-MODIFIED:20230323T121931Z
UID:19731-1686074400-1686081600@pesakarhut.fi
SUMMARY:SUPER Roihuttaret - Pesäkarhut
DESCRIPTION:Naisten Superpesisottelu. Seuraa ottelua ruutu.fi.
URL:https://pesakarhut.fi/tapahtuma/super-roihuttaret-pesakarhut-3/
CATEGORIES:Super vierasottelut,Superpesis
END:VEVENT
END:VCALENDAR