BEGIN:VCALENDAR
VERSION:2.0
PRODID:-//Pesäkarhut - ECPv5.9.1//NONSGML v1.0//EN
CALSCALE:GREGORIAN
METHOD:PUBLISH
X-WR-CALNAME:Pesäkarhut
X-ORIGINAL-URL:https://pesakarhut.fi
X-WR-CALDESC:Tapahtumat Pesäkarhut
BEGIN:VTIMEZONE
TZID:Europe/Helsinki
BEGIN:DAYLIGHT
TZOFFSETFROM:+0200
TZOFFSETTO:+0300
TZNAME:EEST
DTSTART:20220327T010000
END:DAYLIGHT
BEGIN:STANDARD
TZOFFSETFROM:+0300
TZOFFSETTO:+0200
TZNAME:EET
DTSTART:20221030T010000
END:STANDARD
END:VTIMEZONE
BEGIN:VEVENT
DTSTART;TZID=Europe/Helsinki:20220514T180000
DTEND;TZID=Europe/Helsinki:20220514T200000
DTSTAMP:20260423T082718
CREATED:20220112T101054Z
LAST-MODIFIED:20220112T110338Z
UID:17821-1652551200-1652558400@pesakarhut.fi
SUMMARY:SUPERLAUANTAI Pesäkarhut - Manse PP
DESCRIPTION:Huikea ottelutapahtuma Superlauantai saapuu Erku-Areenalle jälleen 14. toukokuuta. Superpesisspektaakkelissa toisensa kohtaavat miesten Superpesisjoukkueet Kankaanpään Maila ja Manse PP MSU kello 15.00 sekä naisten Pesäkarhut ja Manse PP NSU kello 18.00. Liput ennakkoon lippu.fi.
URL:https://pesakarhut.fi/tapahtuma/superlauantai-pesakarhut-manse-pp-2/
LOCATION:Erku-Areena\, Metsämiehenkatu 19\, 28500 Pori\, Suomi
CATEGORIES:Super kotiottelut,Superpesis
END:VEVENT
END:VCALENDAR